BEGIN:VCALENDAR
VERSION:2.0
PRODID:-//SZKOŁA TAŃCA WARSZAWA WILANÓW, TARGÓWEK, URSYNÓW - MASTER DANCE ACADEMY - ECPv6.1.3//NONSGML v1.0//EN
CALSCALE:GREGORIAN
METHOD:PUBLISH
X-ORIGINAL-URL:https://masterdance.academy
X-WR-CALDESC:Events for SZKOŁA TAŃCA WARSZAWA WILANÓW, TARGÓWEK, URSYNÓW - MASTER DANCE ACADEMY
REFRESH-INTERVAL;VALUE=DURATION:PT1H
X-Robots-Tag:noindex
X-PUBLISHED-TTL:PT1H
BEGIN:VTIMEZONE
TZID:Europe/Warsaw
BEGIN:DAYLIGHT
TZOFFSETFROM:+0100
TZOFFSETTO:+0200
TZNAME:CEST
DTSTART:20250330T010000
END:DAYLIGHT
BEGIN:STANDARD
TZOFFSETFROM:+0200
TZOFFSETTO:+0100
TZNAME:CET
DTSTART:20251026T010000
END:STANDARD
BEGIN:DAYLIGHT
TZOFFSETFROM:+0100
TZOFFSETTO:+0200
TZNAME:CEST
DTSTART:20260329T010000
END:DAYLIGHT
BEGIN:STANDARD
TZOFFSETFROM:+0200
TZOFFSETTO:+0100
TZNAME:CET
DTSTART:20261025T010000
END:STANDARD
END:VTIMEZONE
BEGIN:VEVENT
DTSTART;VALUE=DATE:20260125
DTEND;VALUE=DATE:20260126
DTSTAMP:20260423T062500
CREATED:20251028T200520Z
LAST-MODIFIED:20251028T200520Z
UID:4925-1769299200-1769385599@masterdance.academy
SUMMARY:Master Dance Workshops - Natalia Gap - Jazz
DESCRIPTION:Startuje kolejna seria warsztatów Master Dance Workshops! \nW tym sezonie na sali zobaczymy się z: \n🌟 Natalia Gap – Jazz – 25 stycznia 2026 \nKolejne nazwiska już niebawem!\nTrenuj z najlepszymi instruktorami i choreografami z całej Polski i zagranicy podczas serii warsztatów MASTER DANCE WORKSHOPS na Warszawskim Wilanowie!\nKażde warsztaty to nowa choreografia i inny instruktor\, dzięki któremu rozwiniesz swoje umiejętności i rozwiniesz swój warsztat!\nPrzyjdź\, zainspiruj się i tańcz z nami!
URL:https://masterdance.academy/event/master-dance-workshops-natalia-gap-jazz/
CATEGORIES:Warsztaty
ATTACH;FMTTYPE=image/png:https://masterdance.academy/wp-content/uploads/2025/10/WORKSHOPS-Natalia-Gap.png
ORGANIZER;CN="Master%20Dance%20Academy":MAILTO:info@masterdance.academy
END:VEVENT
BEGIN:VEVENT
DTSTART;VALUE=DATE:20251206
DTEND;VALUE=DATE:20251207
DTSTAMP:20260423T062500
CREATED:20251027T193405Z
LAST-MODIFIED:20251027T193405Z
UID:4909-1764979200-1765065599@masterdance.academy
SUMMARY:Master Dance Workshops Brigita Krasovec - Contemporary
DESCRIPTION:Startuje kolejna seria warsztatów Master Dance Workshops! \nW tym sezonie na sali zobaczymy się z: \n🌟 Brigita Krasovec – Contemporary – 6 grudnia 2025 \nKolejne nazwiska już niebawem!\nTrenuj z najlepszymi instruktorami i choreografami z całej Polski i zagranicy podczas serii warsztatów MASTER DANCE WORKSHOPS na Warszawskim Wilanowie!\nKażde warsztaty to nowa choreografia i inny instruktor\, dzięki któremu rozwiniesz swoje umiejętności i rozwiniesz swój warsztat!\nPrzyjdź\, zainspiruj się i tańcz z nami!
URL:https://masterdance.academy/event/master-dance-workshops-brigita-krasovec-contemporary/
CATEGORIES:Warsztaty
ATTACH;FMTTYPE=image/png:https://masterdance.academy/wp-content/uploads/2025/10/WORKSHOPS-Brigita-Krasovec.png
ORGANIZER;CN="Master%20Dance%20Academy":MAILTO:info@masterdance.academy
END:VEVENT
BEGIN:VEVENT
DTSTART;TZID=Europe/Warsaw:20251129T163000
DTEND;TZID=Europe/Warsaw:20251129T193000
DTSTAMP:20260423T062500
CREATED:20251028T200337Z
LAST-MODIFIED:20251028T200337Z
UID:4921-1764433800-1764444600@masterdance.academy
SUMMARY:Hip-Hop Open Class Mateusz Pędracki
DESCRIPTION:🔥 JESIENNA SERIA WARSZTATÓW HIP-HOPOWYCH W MASTER DANCE SPACE 🔥 \nJuż tej jesieni zapraszamy wszystkich tancerzy na wyjątkową serię warsztatów hip-hopowych z najlepszymi instruktorami. \nTo idealna okazja\, by rozwijać swój styl\, pogłębiać technikę i pobawić się ruchem w Master Dance Space. \nHARMONOGRAM WARSZTATÓW: \n🔥  29 listopada — Mateusz Pędracki \nMiejsce: Master Dance Space\, ul. Marconich 3\nKoszt pojedynczych zajęć: 65 zł
URL:https://masterdance.academy/event/hip-hop-open-class-mateusz-pedracki/
LOCATION:MASTER DANCE Space ul. Marconich 3\, Warszawa
CATEGORIES:Warsztaty
ATTACH;FMTTYPE=image/png:https://masterdance.academy/wp-content/uploads/2025/10/1080x1350_Mateusz.png
ORGANIZER;CN="Master%20Dance%20Academy":MAILTO:info@masterdance.academy
END:VEVENT
BEGIN:VEVENT
DTSTART;TZID=Europe/Warsaw:20251115T163000
DTEND;TZID=Europe/Warsaw:20251115T193000
DTSTAMP:20260423T062500
CREATED:20251027T191628Z
LAST-MODIFIED:20251027T191628Z
UID:4907-1763224200-1763235000@masterdance.academy
SUMMARY:Hip-Hop Open Class Blanka Mysiorek
DESCRIPTION:🔥 JESIENNA SERIA WARSZTATÓW HIP-HOPOWYCH W MASTER DANCE SPACE 🔥 \nJuż tej jesieni zapraszamy wszystkich tancerzy na wyjątkową serię warsztatów hip-hopowych z najlepszymi instruktorami. \nTo idealna okazja\, by rozwijać swój styl\, pogłębiać technikę i pobawić się ruchem w Master Dance Space. \nHARMONOGRAM WARSZTATÓW: \n🔥  15 listopada — Blanka Mysiorek \nMiejsce: Master Dance Space\, ul. Marconich 3\nKoszt pojedynczych zajęć: 65 zł
URL:https://masterdance.academy/event/hip-hop-open-class-blanka-mysiorek/
LOCATION:MASTER DANCE Space ul. Marconich 3\, Warszawa
CATEGORIES:Warsztaty
ATTACH;FMTTYPE=image/png:https://masterdance.academy/wp-content/uploads/2025/10/1080x1350_Blanka.png
ORGANIZER;CN="Master%20Dance%20Academy":MAILTO:info@masterdance.academy
END:VEVENT
END:VCALENDAR